BEGIN:VCALENDAR
VERSION:2.0
PRODID:-//ABNY - ECPv6.7.0//NONSGML v1.0//EN
CALSCALE:GREGORIAN
METHOD:PUBLISH
X-ORIGINAL-URL:https://abny.org
X-WR-CALDESC:Events for ABNY
REFRESH-INTERVAL;VALUE=DURATION:PT1H
X-Robots-Tag:noindex
X-PUBLISHED-TTL:PT1H
BEGIN:VTIMEZONE
TZID:America/New_York
BEGIN:DAYLIGHT
TZOFFSETFROM:-0500
TZOFFSETTO:-0400
TZNAME:EDT
DTSTART:20220313T070000
END:DAYLIGHT
BEGIN:STANDARD
TZOFFSETFROM:-0400
TZOFFSETTO:-0500
TZNAME:EST
DTSTART:20221106T060000
END:STANDARD
END:VTIMEZONE
BEGIN:VEVENT
DTSTART;TZID=America/New_York:20220719T100000
DTEND;TZID=America/New_York:20220719T110000
DTSTAMP:20260423T111856
CREATED:20220706T134703Z
LAST-MODIFIED:20220711T131606Z
UID:10293-1658224800-1658228400@abny.org
SUMMARY:"New" New York Focus Group Meeting
DESCRIPTION:You have been cordially invited to participate in a focus group session with the “New” New York Panel on Tuesday\, July 19 at 10 a.m. Part of the panel’s process is reaching out to experts and stakeholders\, like you\, to hear their perspectives on relevant topics (economic resilience\, inclusive opportunity\, street vibrancy\, urban mobility\, building/district use)\, for the city’s business districts (including but not limited to Midtown Manhattan). \nThe “New” New York Panel\, convened by Mayor Eric Adams and Governor Kathy Hochul\, is tasked with developing strategies for the recovery and resilience of the city’s commercial districts—in response to challenges stemming from the COVID-19 pandemic\, and longstanding and systemic challenges facing New York City and the region. Its core objective is to create vibrant\, strong\, and inclusive business districts in NYC\, through the lenses of place\, industry\, and people. \nThe Zoom link will be shared the day before the event via email.
URL:https://abny.org/abny-event/new-new-york-focus-group-meeting/
CATEGORIES:ABNY Steering Committee Only
ATTACH;FMTTYPE=image/png:https://abny.org/wp-content/uploads/2022/06/fbc97471-44ad-e350-3c3d-a76f67eed7a6-e1656598922379.png
END:VEVENT
END:VCALENDAR