BEGIN:VCALENDAR
VERSION:2.0
PRODID:-//ABNY - ECPv6.7.0//NONSGML v1.0//EN
CALSCALE:GREGORIAN
METHOD:PUBLISH
X-ORIGINAL-URL:https://abny.org
X-WR-CALDESC:Events for ABNY
REFRESH-INTERVAL;VALUE=DURATION:PT1H
X-Robots-Tag:noindex
X-PUBLISHED-TTL:PT1H
BEGIN:VTIMEZONE
TZID:America/New_York
BEGIN:DAYLIGHT
TZOFFSETFROM:-0500
TZOFFSETTO:-0400
TZNAME:EDT
DTSTART:20260308T070000
END:DAYLIGHT
BEGIN:STANDARD
TZOFFSETFROM:-0400
TZOFFSETTO:-0500
TZNAME:EST
DTSTART:20261101T060000
END:STANDARD
END:VTIMEZONE
BEGIN:VEVENT
DTSTART;TZID=America/New_York:20260326T180000
DTEND;TZID=America/New_York:20260326T200000
DTSTAMP:20260422T105122
CREATED:20260224T011419Z
LAST-MODIFIED:20260316T171022Z
UID:29084-1774548000-1774555200@abny.org
SUMMARY:What’s On Tap? with Commissioner Ahmed Tigani\, NYC DOB
DESCRIPTION:Please join us Thursday\, March 26 at 6:00p for the next ABNY Young Professionals’ What’s on Tap? featuring Ahmed Tigani\, Commissioner at NYC Department of Buildings. \n 
URL:https://abny.org/abny-event/whats-on-tap-with-commissioner-ahmed-tigani-nyc-dob/
CATEGORIES:ABNY YP
ATTACH;FMTTYPE=image/png:https://abny.org/wp-content/uploads/2026/02/Turner.png
END:VEVENT
BEGIN:VEVENT
DTSTART;TZID=America/New_York:20260428T180000
DTEND;TZID=America/New_York:20260428T200000
DTSTAMP:20260422T105122
CREATED:20260128T151238Z
LAST-MODIFIED:20260324T173345Z
UID:29028-1777399200-1777406400@abny.org
SUMMARY:NEW DATE---Navigating Your Career Path
DESCRIPTION:Join us for an engaging panel\, Navigating Your Career Path\, presented by the ABNY Young Professionals Career Development Committee on the new date of Tuesday\, April 28\,  doors open at 5:30 PM; program begins at 6:00 PM. \nThe panel will feature three incredible leaders: \n\nReggie Thomas\, Head of Government Affairs\, Google\nGenevieve Michael\, Chief of Staff\, Deputy Mayor for Housing and Planning\nScott Millstein\, Professional-in-Residence & Lecturer\, Macaulay Honors College at the City University of New York (CUNY)\n\nThis conversation will bring together leading voices from the public\, private\, and government sectors as they share their career journeys\, offer candid insights\, and highlight best practices for making intentional professional moves. \nPlease note\, if you have already registered for this event we ask that you re-register with the updated link.
URL:https://abny.org/abny-event/navigating-your-career/
CATEGORIES:ABNY YP
ATTACH;FMTTYPE=image/png:https://abny.org/wp-content/uploads/2026/01/Reschedule.png
END:VEVENT
BEGIN:VEVENT
DTSTART;TZID=America/New_York:20260519T180000
DTEND;TZID=America/New_York:20260519T200000
DTSTAMP:20260422T105122
CREATED:20260414T174034Z
LAST-MODIFIED:20260414T174133Z
UID:29167-1779213600-1779220800@abny.org
SUMMARY:What’s On Tap? with Kenny Burgos\, New York Apartment Association
DESCRIPTION:Join us on Tuesday\, May 19 at 6:00 PM for the next ABNY Young Professionals’ What’s on Tap? featuring Kenny Burgos\, CEO of the New York Apartment Association. \n 
URL:https://abny.org/abny-event/whats-on-tap-with-kenny-burgos-new-york-apartment-association/
LOCATION:Bronx Brewery Hudson Yards
CATEGORIES:ABNY YP
ATTACH;FMTTYPE=image/png:https://abny.org/wp-content/uploads/2026/04/YP-Graphics-6.png
END:VEVENT
END:VCALENDAR