BEGIN:VCALENDAR
VERSION:2.0
PRODID:-//ABNY - ECPv6.7.0//NONSGML v1.0//EN
CALSCALE:GREGORIAN
METHOD:PUBLISH
X-WR-CALNAME:ABNY
X-ORIGINAL-URL:https://abny.org
X-WR-CALDESC:Events for ABNY
REFRESH-INTERVAL;VALUE=DURATION:PT1H
X-Robots-Tag:noindex
X-PUBLISHED-TTL:PT1H
BEGIN:VTIMEZONE
TZID:UTC
BEGIN:STANDARD
TZOFFSETFROM:+0000
TZOFFSETTO:+0000
TZNAME:UTC
DTSTART:20190101T000000
END:STANDARD
END:VTIMEZONE
BEGIN:VEVENT
DTSTART;VALUE=DATE:20190107
DTEND;VALUE=DATE:20190108
DTSTAMP:20260421T130945
CREATED:20210702T161545Z
LAST-MODIFIED:20210702T164150Z
UID:1064-1546819200-1546905599@abny.org
SUMMARY:Power Breakfasts With Senator Charles E. Schumer\, U.S. Senate Democratic Leader
DESCRIPTION:Senator Schumer took the ABNY stage to discuss the year ahead in Washington\, the impact of the government shutdown\, and the ways in which actions at the federal level impact New York.
URL:https://abny.org/abny-event/power-breakfasts-with-senator-charles-e-schumer-u-s-senate-democratic-leader/
ATTACH;FMTTYPE=image/jpeg:https://abny.org/wp-content/uploads/2021/07/01.jpg
END:VEVENT
END:VCALENDAR