BEGIN:VCALENDAR
VERSION:2.0
PRODID:-//ABNY - ECPv6.7.0//NONSGML v1.0//EN
CALSCALE:GREGORIAN
METHOD:PUBLISH
X-WR-CALNAME:ABNY
X-ORIGINAL-URL:https://abny.org
X-WR-CALDESC:Events for ABNY
REFRESH-INTERVAL;VALUE=DURATION:PT1H
X-Robots-Tag:noindex
X-PUBLISHED-TTL:PT1H
BEGIN:VTIMEZONE
TZID:America/New_York
BEGIN:DAYLIGHT
TZOFFSETFROM:-0500
TZOFFSETTO:-0400
TZNAME:EDT
DTSTART:20250309T070000
END:DAYLIGHT
BEGIN:STANDARD
TZOFFSETFROM:-0400
TZOFFSETTO:-0500
TZNAME:EST
DTSTART:20251102T060000
END:STANDARD
END:VTIMEZONE
BEGIN:VEVENT
DTSTART;TZID=America/New_York:20250605T160000
DTEND;TZID=America/New_York:20250605T173000
DTSTAMP:20260421T084800
CREATED:20250508T145241Z
LAST-MODIFIED:20250509T150614Z
UID:25480-1749139200-1749144600@abny.org
SUMMARY:ABNY YP Tour: ConEdison East River Generating Plant
DESCRIPTION:Join ABNY Young Professionals for a tour of the ConEdison East River Generating Plant on Thursday\, June 5th – 4:00 p.m. \nThe tour will provide an insightful overview of the district steam system and its history as well as how steam is used in the city. The tour will also highlight ConEd’s decarbonization plan. \nIf you are interested in joining the tour\, please sign up by 12:00 p.m. on Friday\, May 23. Please note space is limited with attendees selected by lottery. All who signed up will be notified by end of day Tuesday\, May 27\, whether they have been selected to participate or not. \nPlease note\, per ConEd’s security policy\, we must ask each attendee whether or not they are a U.S. or Canadian citizen. If not\, clearance must be retrieved by ConEd ahead of time.  \nClick here to register.
URL:https://abny.org/abny-event/abny-yp-tour-conedison-east-river-generating-plant/
CATEGORIES:ABNY YP
ATTACH;FMTTYPE=image/png:https://abny.org/wp-content/uploads/2025/05/ConEd-Tour-e1746715914291.png
END:VEVENT
BEGIN:VEVENT
DTSTART;TZID=America/New_York:20250610T180000
DTEND;TZID=America/New_York:20250610T200000
DTSTAMP:20260421T084800
CREATED:20250423T171031Z
LAST-MODIFIED:20250527T160311Z
UID:25351-1749578400-1749585600@abny.org
SUMMARY:What’s On Tap? Félix V. Matos Rodríguez\, Chancellor of the City University of New York
DESCRIPTION:Please join us on Tuesday\, June 10 at 6:00 p.m. for a What’s On Tap? with Félix V. Matos Rodríguez\, Chancellor of the City University of New York \nChancellor Matos Rodríguez will talk about his career path leading up to his appointment as the head of the country’s largest urban public university and the work he’s implemented in the City University system to improve and expand New Yorkers’ access to quality higher education. \nPlease RSVP by 3 p.m. on Thursday\, June 5.  You must be 21+ to attend. We hope you can join us!
URL:https://abny.org/abny-event/whats-on-tap-with-the-cuny-chancellor/
LOCATION:The Bronx Brewery\, 20 Hudson Yards Unit 207\, New York\, NY\, 10001\, United States
CATEGORIES:ABNY YP
ATTACH;FMTTYPE=image/png:https://abny.org/wp-content/uploads/2025/04/2-e1745428678569.png
END:VEVENT
BEGIN:VEVENT
DTSTART;TZID=America/New_York:20250624T160000
DTEND;TZID=America/New_York:20250624T170000
DTSTAMP:20260421T084800
CREATED:20250513T182725Z
LAST-MODIFIED:20250515T150528Z
UID:25530-1750780800-1750784400@abny.org
SUMMARY:ABNY YP Tour: South Battery Park City Resiliency Project - Battery Park City Authority
DESCRIPTION:Join ABNY Young Professionals for a tour of the South Battery Park Resilience Project on Tuesday\, June 24th – 4:00 p.m. \nParticipants will get a sneak peek of the soon-to-be reopened Wagner Park\, including the various components of the flood barrier system\, a waterfront performance space\, and the Wagner Park Pavilion\, which will house public restrooms\, a new community space and restaurant\, as well as a green roof overlooking the Statue of Liberty. \nThis is an active construction site and participants must wear closed toe and hard soled shoes and be prepared to walk on uneven surfaces. \nIf you are interested in joining the tour\, please sign up by 12:00 p.m. on Wednesday\, June 4th. Please note space is limited with attendees selected by lottery. All who signed up will be notified by end of day Tuesday\, June 6th\, whether they have been selected to participate or not. \nClick here to register. \n  \n\n  \nAbout the South Battery Park City Resiliency Project:  \nThe South Battery Park City Resiliency Project (SBPCR) is a BPCA capital project designed to provide flood risk reduction for Battery Park City and Lower Manhattan in response to increasingly frequent and more severe storms. It comprises an integrated flood barrier system from the Battery Park City Esplanade at the west end of First Place\, along the waterside edge of the Museum of Jewish Heritage (MJH)\, through Robert F. Wagner Park\, and Pier A Plaza\, that then extends eastward along the northern edge of The Battery\, ending at approximately the southwest corner of Battery Place and State Street. The project also includes modifications and upgrades to the storm-water drainage system on the interior side of the flood barrier system to ensure that flood risks on that side are not exacerbated by the coastal surge protection. The project is part of the City of New York’s larger Lower Manhattan Coastal Resiliency (LMCR) Project. 
URL:https://abny.org/abny-event/abny-yp-tour-south-battery-park-city-resiliency-project-battery-park-city-authority/
CATEGORIES:ABNY YP
ATTACH;FMTTYPE=image/png:https://abny.org/wp-content/uploads/2025/05/BPCA-Toour-e1747244823647.png
END:VEVENT
END:VCALENDAR